BEGIN:VCALENDAR
VERSION:2.0
PRODID:-//Vänsterpartiet Skåne - ECPv6.15.17.1//NONSGML v1.0//EN
CALSCALE:GREGORIAN
METHOD:PUBLISH
X-ORIGINAL-URL:https://skane.vansterpartiet.se
X-WR-CALDESC:Händelser för Vänsterpartiet Skåne
REFRESH-INTERVAL;VALUE=DURATION:PT1H
X-Robots-Tag:noindex
X-PUBLISHED-TTL:PT1H
BEGIN:VTIMEZONE
TZID:UTC
BEGIN:STANDARD
TZOFFSETFROM:+0000
TZOFFSETTO:+0000
TZNAME:UTC
DTSTART:20250101T000000
END:STANDARD
END:VTIMEZONE
BEGIN:VEVENT
DTSTART;TZID=UTC:20260314T200000
DTEND;TZID=UTC:20260314T235500
DTSTAMP:20260423T061803
CREATED:20260303T095704Z
LAST-MODIFIED:20260312T112005Z
UID:6221-1773518400-1773532500@skane.vansterpartiet.se
SUMMARY:VÄNSTERFEST! Nooshi & Hanna på Moriskan
DESCRIPTION:Den 14 mars kl 20:00 slår vi upp dörrarna till Moriska Paviljongen för en kväll där vi laddar upp för valår! DJ:s som vrider upp tempot och goodiebags till de första i kön! Skriv upp dig på listan och kom innan 21:00 för garanterat inträde! Vi ses! \n\nLISTA /// VÄNSTERFEST I MALMÖ MED NOOSHI DADGORSTAR OCH HANNA GEDIN
URL:https://skane.vansterpartiet.se/event/vansterfest-nooshi-hanna-pa-moriskan/
LOCATION:Moriskan\, Norra Parkgatan 2\, Malmö\, 21436
END:VEVENT
BEGIN:VEVENT
DTSTART;TZID=UTC:20260321T090000
DTEND;TZID=UTC:20260321T180000
DTSTAMP:20260423T061803
CREATED:20260107T094014Z
LAST-MODIFIED:20260320T141653Z
UID:6161-1774083600-1774116000@skane.vansterpartiet.se
SUMMARY:Valkonferens & extra distriktsårskonferens
DESCRIPTION:Valkonferens och extra distriktsårskonferens hålls 21 mars kl. 9–18 i Medborgarhuset i Eslöv. \nKallelse\, tidsplan och fotografering:\n\nKallelse extra dåk och valkonferens 2026\nKallelse\, komplettering\nValkonferens och extra distriktsårskonferens 2026-03-21_ Förslag till arbetsordning\nSchema för fotografering av listtoppar\n\nUnderlag: Extra distriktårskonferens\n\nDagordning extra distriktsårskonferens\nExtra distriktsårskonferens 2026-03-21 förslag till konferensordning\nFörslag till Regionpolitiskt program 2026-2030\nInkomna motioner på Regionpolitiska programmet inkl svar från AU\nFyllnadsval distriktsstyrelse\n\nUnderlag: Valkonferens\n\nDagordning valkonferens\nFörslag till konferensordning\, valkonferens\nValberedningens förslag till listor valkonferens 21_3 (kompletterande version)
URL:https://skane.vansterpartiet.se/event/valkonferens-extra-distriktsarskonferens/
LOCATION:Medborgarhuset i Eslöv\, Kyrkogatan 1\, Eslöv\, 24131
END:VEVENT
END:VCALENDAR