BEGIN:VCALENDAR
VERSION:2.0
PRODID:-//Vänsterpartiet Skåne - ECPv6.15.20//NONSGML v1.0//EN
CALSCALE:GREGORIAN
METHOD:PUBLISH
X-ORIGINAL-URL:https://skane.vansterpartiet.se
X-WR-CALDESC:Händelser för Vänsterpartiet Skåne
REFRESH-INTERVAL;VALUE=DURATION:PT1H
X-Robots-Tag:noindex
X-PUBLISHED-TTL:PT1H
BEGIN:VTIMEZONE
TZID:UTC
BEGIN:STANDARD
TZOFFSETFROM:+0000
TZOFFSETTO:+0000
TZNAME:UTC
DTSTART:20240101T000000
END:STANDARD
END:VTIMEZONE
BEGIN:VEVENT
DTSTART;TZID=UTC:20250406T140000
DTEND;TZID=UTC:20250406T170000
DTSTAMP:20260424T040740
CREATED:20250227T153250Z
LAST-MODIFIED:20250310T102646Z
UID:5933-1743948000-1743958800@skane.vansterpartiet.se
SUMMARY:Boksamtal med Lisa Pelling om "Livet som pågår här"
DESCRIPTION:Välkommen på boksamtal! \n\n\nLisa Pelling presenterar sin och Marika Palmér Riveras bok ”Livet som pågår här”\n\nNÄR: Söndag 6 april kl. 14-17 påVAR: Bangårdsgatan 7 i HöörANMÄLAN: Anmäl dig genom att klicka här \n\nAlla som anmält sig senast 22/3 får ett exemplar av boken på plats. \n\n\n\nArrangemanget är ett samarbete mellan Vänsterpartiet Skåne och ABF. \n\n\nOm boken:Boken bygger på drygt tvåhundra samtal med människor runt om i Sverige\, i småorter och på den svenska landsbygden. Människor som ofta används som slagträn i debatten\, men sällan får komma till tals själva.\n\nDe bor på platser som har ont om ekonomiska resurser\, men samtidigt är rika på både naturtillgångar och erfarenheter. Erfarenheter av omvälvande förändringar\, av att ställa om från bruksort till småindustri\, från garnisonsstad till turistort\, från guldårens snabba tillväxt till dagens långsamma utflyttning.\n\nNu står de här bygderna inför en ny omställning. Hur kan människors erfarenheter tas tillvara? Vad krävs för att människor ska uppfatta klimatomställningen som rättvis och önskvärd?\nVarmt välkommen så syns vi där!
URL:https://skane.vansterpartiet.se/event/boksamtal-med-lisa-pelling-om-livet-som-pagar-har/
END:VEVENT
BEGIN:VEVENT
DTSTART;TZID=UTC:20250422T173000
DTEND;TZID=UTC:20250422T190000
DTSTAMP:20260424T040740
CREATED:20250410T094421Z
LAST-MODIFIED:20250410T094421Z
UID:5978-1745343000-1745348400@skane.vansterpartiet.se
SUMMARY:Stoppa kostnadschocken - Manifestation mot prisökningar
DESCRIPTION:Maten\, medicinen\, elen – ja nästan allting blir dyrare\, och vanligt folk får det svårare att få ihop sin ekonomi. \nI det läget väljer Tidöregeringen att sänka skatten för de rikaste och prioritera lyxrenoveringar framför äldres medicin och barnfamiljers bostadsbidrag. \nSverige\, Malmö behöver en regering som underlättar vardagen för vanligt folk\, i stället för att försvåra den. En regering som gör något för att bekämpa barnfattigdomen\, i stället för att förvärra den. Vi behöver en regering som satsar på välfärden\, i stället för en som skär ner. Vi behöver en regering som satsar på infrastruktur och klimatomställning\, i stället för att montera ner klimatpolitiken. \nDet är dags att agera mot det pågående rånet. Kom med och manifestera med oss tisdagen den 22 april. Tillsammans kan vi vända utvecklingen till något bättre. \nSamling kl 17.30\, tal från kl 18.00\, allt slutar kl 19. \nPlats: Möllevångstorget\, Malmö \nDet kommer bjudas på tal\, fika och annat gott! \nArrangörer: \nVänsterpartiet Skåne \nVänsterpartiet Malmö \nSocialdemokraterna Malmö \nMiljöpartiet Malmö \nKlicka i att du kommer på facebook-eventet: Manifestation – Stoppa kostnadschocken | Facebook
URL:https://skane.vansterpartiet.se/event/stoppa-kostnadschocken-manifestation-mot-prisokningar/
LOCATION:Möllevångstorget\, Malmö
END:VEVENT
END:VCALENDAR