BEGIN:VCALENDAR
VERSION:2.0
PRODID:-//Vänsterpartiet Skåne - ECPv6.15.20//NONSGML v1.0//EN
CALSCALE:GREGORIAN
METHOD:PUBLISH
X-WR-CALNAME:Vänsterpartiet Skåne
X-ORIGINAL-URL:https://skane.vansterpartiet.se
X-WR-CALDESC:Händelser för Vänsterpartiet Skåne
REFRESH-INTERVAL;VALUE=DURATION:PT1H
X-Robots-Tag:noindex
X-PUBLISHED-TTL:PT1H
BEGIN:VTIMEZONE
TZID:UTC
BEGIN:STANDARD
TZOFFSETFROM:+0000
TZOFFSETTO:+0000
TZNAME:UTC
DTSTART:20240101T000000
END:STANDARD
END:VTIMEZONE
BEGIN:VEVENT
DTSTART;TZID=UTC:20250304T180000
DTEND;TZID=UTC:20250304T200000
DTSTAMP:20260424T052111
CREATED:20250227T145858Z
LAST-MODIFIED:20250227T145858Z
UID:5928-1741111200-1741118400@skane.vansterpartiet.se
SUMMARY:Samtal om vår sjukvård med Karin Rågsjö
DESCRIPTION:Välkommen på samtal om vår sjukvård med Karin Rågsjö\, riksdagsledamot och Vänsterpartiets sjukvårdspolitiska talesperson.\n\nSjukvården ska finnas där när vi behöver den\, inte styras av sparkrav och nedskärningar. Men idag ser vi hur vårdcentraler stänger\, personalen går på knäna och väntetiderna blir längre. Det här är inte en naturlag. Det är en konsekvens av politiska beslut. Vi behöver istället en sjukvård som är tillgänglig för alla\, där resurserna går till vård istället för vinster\, och där personalen har tid för patienterna.\n\nFör vad händer med rätten till vård när nedskärningarna blir för stora? Hur bygger vi en sjukvård som fungerar?\nKom och var med i samtalet!\n\nTISDAG 4 MARS KL 18:00KULLAGATAN 30\, HELSINGBORG
URL:https://skane.vansterpartiet.se/event/samtal-om-var-sjukvard-med-karin-ragsjo/
LOCATION:Kullagatan 30\, Helsingborg\, Kullagatan 30\, Helsingborg
END:VEVENT
BEGIN:VEVENT
DTSTART;VALUE=DATE:20250322
DTEND;VALUE=DATE:20250323
DTSTAMP:20260424T052111
CREATED:20240917T102604Z
LAST-MODIFIED:20240917T102604Z
UID:5719-1742601600-1742687999@skane.vansterpartiet.se
SUMMARY:Distriktsårskonferens
DESCRIPTION:Boka in datumet redan nu! Mer information kommer längre fram.
URL:https://skane.vansterpartiet.se/event/distriktsarskonferens/
ATTACH;FMTTYPE=image/jpeg:https://skane.vansterpartiet.se/files/2024/05/441691907_982502039904875_7036182540804867744_n-e1726568723314.jpg
END:VEVENT
END:VCALENDAR