BEGIN:VCALENDAR
VERSION:2.0
PRODID:-//Vänsterpartiet Skåne - ECPv6.15.20//NONSGML v1.0//EN
CALSCALE:GREGORIAN
METHOD:PUBLISH
X-ORIGINAL-URL:https://skane.vansterpartiet.se
X-WR-CALDESC:Händelser för Vänsterpartiet Skåne
REFRESH-INTERVAL;VALUE=DURATION:PT1H
X-Robots-Tag:noindex
X-PUBLISHED-TTL:PT1H
BEGIN:VTIMEZONE
TZID:UTC
BEGIN:STANDARD
TZOFFSETFROM:+0000
TZOFFSETTO:+0000
TZNAME:UTC
DTSTART:20230101T000000
END:STANDARD
END:VTIMEZONE
BEGIN:VEVENT
DTSTART;TZID=UTC:20240514T083000
DTEND;TZID=UTC:20240514T100000
DTSTAMP:20260424T221215
CREATED:20240508T061515Z
LAST-MODIFIED:20240508T061515Z
UID:5649-1715675400-1715680800@skane.vansterpartiet.se
SUMMARY:Träffa Jonas Sjöstedt i Lund
DESCRIPTION:9 juni är det EU-val och Vänsterpartiets kandidat Jonas Sjöstedt reser över hela landet för att träffa väljare och prata om vår tydliga agenda:\nDet går att genomföra en grön och stark omställning. Det går att pressa ner priserna på mat och el. Det går att förbättra välfärden\, bygga bra bostäder och skapa trygga jobb. Men då måste vi bort från högerpolitikens blinda tro på att marknaden ska lösa allt\, till att politiker istället tar ansvar för att skapa välstånd och välfärd som kommer alla till del.\nVarmt välkommen till Lilla salen i AF-Borgen i Lund. Det blir en spännande utfrågning på scen och chans att ställa frågor. Vi bjuder de första sextio gästerna på en välfylld baguette och kaffe. \nPlats: Sandgatan 2 Lund\, AF-borgen lilla salen\nDatum: 14 maj\nTid: Insläpp från kl 11.30\, mötet pågår kl 12.00-13.00.
URL:https://skane.vansterpartiet.se/event/traffa-jonas-sjostedt-i-lund/
LOCATION:Lund
END:VEVENT
BEGIN:VEVENT
DTSTART;TZID=UTC:20240517T150000
DTEND;TZID=UTC:20240517T170000
DTSTAMP:20260424T221215
CREATED:20240508T062009Z
LAST-MODIFIED:20240514T151336Z
UID:5651-1715958000-1715965200@skane.vansterpartiet.se
SUMMARY:AW med Hanna Gedin och Malin Björk i Malmö
DESCRIPTION:Kom och prata EU-politik! \nHanna Gedin är en av Vänsterpartiets toppkandidater i EU-valet. Nu kommer Hanna till Rex i Malmö för att träffa dig och snacka politik inför EU-valet. \nDet blir en spännande utfrågning på scen tillsammans med Malin Björk\, Vänsterpartiets nuvarande EU-politiker\, och mingel och musik. \nPlats: Pizzeria Rex\, Nobelvägen 107\nDatum: 17 maj\nTid: Insläpp från kl 18.00\, mötet pågår mellan 18.30-19.30\, därefter blir det efterhäng och mingel.
URL:https://skane.vansterpartiet.se/event/traffa-hanna-gedin-i-malmo/
END:VEVENT
END:VCALENDAR