BEGIN:VCALENDAR
VERSION:2.0
PRODID:-//Vänsterpartiet Skåne - ECPv6.15.20//NONSGML v1.0//EN
CALSCALE:GREGORIAN
METHOD:PUBLISH
X-ORIGINAL-URL:https://skane.vansterpartiet.se
X-WR-CALDESC:Händelser för Vänsterpartiet Skåne
REFRESH-INTERVAL;VALUE=DURATION:PT1H
X-Robots-Tag:noindex
X-PUBLISHED-TTL:PT1H
BEGIN:VTIMEZONE
TZID:UTC
BEGIN:STANDARD
TZOFFSETFROM:+0000
TZOFFSETTO:+0000
TZNAME:UTC
DTSTART:20250101T000000
END:STANDARD
END:VTIMEZONE
BEGIN:VEVENT
DTSTART;VALUE=DATE:20260613
DTEND;VALUE=DATE:20260615
DTSTAMP:20260423T120913
CREATED:20260107T093645Z
LAST-MODIFIED:20260409T093628Z
UID:6159-1781308800-1781481599@skane.vansterpartiet.se
SUMMARY:SKÅNES VÄNSTERDAGAR 2026
DESCRIPTION:Efter listsättningar och valkongress står vi redo att ta oss an valrörelsen tillsammans! Hur använder vi våra valplattformar i vår lokala politik i kommuner\, regioner och som företrädare och aktivister? Vilka möjligheter och utmaningar ligger i att styra från vänster\, och hur ser vi på det här hos oss? Hur når vi ut med våra budskap till så många som möjligt? Följ med på två dagar fyllda med politisk inspiration & diskussion!\n\n\nVi bjuder på frukost\, lunch\, fika och middag\, tid att träffas och prata med varandra. Mer information och anmälan inom kort på denna sidan. \n\n\n\n\nKonferens:\n13-14 juni ABF Malmö\nSpånehusvägen 47 Malmö \n\n\n\n\nMiddag och samtal:\n13 juni Moriska paviljongen\nNorra Parkgatan 2 Malmö
URL:https://skane.vansterpartiet.se/event/skanska-vansterdagarna/
LOCATION:ABF Malmö
CATEGORIES:Arrangemang
ATTACH;FMTTYPE=image/png:https://skane.vansterpartiet.se/files/2026/01/SKANES-VAnsterdagar-Omslag-till-digital-anteckningsbok-liggande.png
END:VEVENT
BEGIN:VEVENT
DTSTART;TZID=UTC:20260813T180000
DTEND;TZID=UTC:20260813T200000
DTSTAMP:20260423T120913
CREATED:20260423T114514Z
LAST-MODIFIED:20260423T115619Z
UID:6338-1786644000-1786651200@skane.vansterpartiet.se
SUMMARY:Digital Valskola
DESCRIPTION:Vi bjuder vi in alla som vill vara med och kampanja tillsammans med oss i till Valskolan. Ett tillfälle där du får möjlighet att höra mer om våra viktigaste politiska prioriteringar i valrörelsen och hur du kan vara med och bidra till maktskiftet i september! Oavsett om det är din första träff med Vänsterpartiet eller om du har varit aktiv länge kommer Valskolan vara något för dig. \n13/8 kl 18-20.00 \nVar: Zoom\, alla anmälda får länk skickat till sig \nAnmälan: https://app.zetkin.org/o/261/events/53745 \nVill du att distriktet anordnar en valskola i din partiförening? Det gör vi gärna! Hör av er till ansvarig lisa.claesson@vansterpartiet.se så bestämmer något datum tillsammans!
URL:https://skane.vansterpartiet.se/event/digital-valskola-3/
LOCATION:Digitalt
ATTACH;FMTTYPE=image/png:https://skane.vansterpartiet.se/files/2026/04/dinsida.png
END:VEVENT
END:VCALENDAR