BEGIN:VCALENDAR
VERSION:2.0
PRODID:-//Vänsterpartiet Skåne - ECPv6.15.20//NONSGML v1.0//EN
CALSCALE:GREGORIAN
METHOD:PUBLISH
X-WR-CALNAME:Vänsterpartiet Skåne
X-ORIGINAL-URL:https://skane.vansterpartiet.se
X-WR-CALDESC:Händelser för Vänsterpartiet Skåne
REFRESH-INTERVAL;VALUE=DURATION:PT1H
X-Robots-Tag:noindex
X-PUBLISHED-TTL:PT1H
BEGIN:VTIMEZONE
TZID:UTC
BEGIN:STANDARD
TZOFFSETFROM:+0000
TZOFFSETTO:+0000
TZNAME:UTC
DTSTART:20240101T000000
END:STANDARD
END:VTIMEZONE
BEGIN:VEVENT
DTSTART;TZID=UTC:20251011T180000
DTEND;TZID=UTC:20251011T200000
DTSTAMP:20260423T225622
CREATED:20250912T145502Z
LAST-MODIFIED:20250922T093549Z
UID:6097-1760205600-1760212800@skane.vansterpartiet.se
SUMMARY:Alla ska äta - start för studiecirkel
DESCRIPTION:Matpriserna har under sittande regering blivit dyrare och dyrare. På detta tema bjuder Vänsterpartiet Skåne in till en digital studiecirkel utifrån boken “Alla ska äta” Av Elina Pahnke. \nNär: 11/10 kl 18.00-20.00 \nVar: Zoom\, alla anmälda får länk på mejlen \nAnmäl dig här \nDu kan även anmäla dig genom att mejla skane@vansterpartiet.se
URL:https://skane.vansterpartiet.se/event/alla-ska-ata-start-for-studiecirkel/
END:VEVENT
BEGIN:VEVENT
DTSTART;VALUE=DATE:20251121
DTEND;VALUE=DATE:20251122
DTSTAMP:20260423T225622
CREATED:20250912T145853Z
LAST-MODIFIED:20250922T093718Z
UID:6099-1763683200-1763769599@skane.vansterpartiet.se
SUMMARY:Utbildningsdag för kvinnor och ickebinära – Förberedelse inför valet 2026
DESCRIPTION:Denna utbildningsdag är en förberedelse inför valet 2026\, med fokus på att stärka kvinnor och ickebinära i politiska roller. Dagen erbjuder workshops och föreläsningar om förhandlingsteknik\, politisk strategi och effektiva metoder för valrörelse. En praktisk och inspirerande dag för dig som vill göra skillnad i valet 2026. \nNär: 21/11 \nPlats: Info kommer \nAnmäl dig här \nDu kan även anmäla dig genom att mejla skane@vansterpartiet.se \n 
URL:https://skane.vansterpartiet.se/event/utbildningsdag-for-kvinnor-och-ickebinara-forberedelse-infor-valet-2026/
END:VEVENT
BEGIN:VEVENT
DTSTART;TZID=UTC:20251125T180000
DTEND;TZID=UTC:20251125T200000
DTSTAMP:20260423T225622
CREATED:20251113T103005Z
LAST-MODIFIED:20251113T103112Z
UID:6140-1764093600-1764100800@skane.vansterpartiet.se
SUMMARY:Digital träff: Hur bygger vi en socialpolitik som sätter människan först?
DESCRIPTION:Har du ett parlamentariskt uppdrag i Skåne – eller vill du bara få fler verktyg för att driva vänsterpolitik lokalt? Då ska du inte missa våra tre digitala tematräffar i november och december! Under tre kvällar samlas vi för att inspireras\, dela erfarenheter och utveckla nya idéer för kommunpolitiken. Varje träff tar upp olika politikområden. Du får både höra hur andra vänsterpartister lyckats driva igenom förändringar och själv bidra med egna förslag och frågor.\n\n\n\n\n12 november\, kl. 18–20: Skola & förskola + Klimat & miljöHur sätter vi barn och planet före vinstintressen?\n25 november\, kl. 18–20: Socialtjänst & äldreomsorgHur bygger vi en socialpolitik som sätter människan först?\n10 december\, kl. 18–20: Kultur & fritid\, bostäder & personalpolitikHur får vi kommunerna att satsa på kultur\, trygga bostäder och bra arbetsvillkor?\n\n\n\nAnmälan görs via Zetkin: https://app.zetkin.org/o/261/projects/5735 eller via mejl till: skane@vansterpartiet.se\n\nMötena kommer både innehålla kortare föredrag med inspiration från någon vänsterpartist som har drivit någon fråga kopplat till ämnena för dagen samt möjlighet för er att komma in med frågor och tips som ni har. Efteråt kommer det skickas ut mejl med tips och länkar som ni kan använda er av. Har ni tips på frågor som ni har drivit kopplat till något av dessa ämnen får ni gärna skicka ett mejl till jesper.sahlen.raquette@vansterpartiet.se\n\nLänk till mötet skickas till alla anmälda några dagar innan.
URL:https://skane.vansterpartiet.se/event/digital-traff-hur-bygger-vi-en-socialpolitik-som-satter-manniskan-forst/
LOCATION:Digitalt
END:VEVENT
BEGIN:VEVENT
DTSTART;TZID=UTC:20251130T150000
DTEND;TZID=UTC:20251130T173000
DTSTAMP:20260423T225622
CREATED:20251113T103534Z
LAST-MODIFIED:20251113T103534Z
UID:6145-1764514800-1764523800@skane.vansterpartiet.se
SUMMARY:Filmvisning av Kvällspass + fackligt samtal
DESCRIPTION:Välkommen på visning av filmen Kvällspass följt av ett samtal med fackliga representanter.\n\nVänsterpartiet har ett antal fribiljetter till detta evenemang. Maila sofie.valfridsson@skane.se för fri entré (senast 28/11). Kvällspass följer Floria\, en erfaren sjuksköterska på en kirurgavdelning där tempot är högt och resurserna knappa. Trots underbemanning hanterar hon arbetsdagen med okuvlig arbetsmoral\, klinisk precision och stor empati för sina patienter. När arbetsbördan växer och timmarna rinner iväg blir även det inre trycket synligt. Med hyllade Leonie Benesch (Lärarrummet\, Det vita bandet) i en djupt mänsklig huvudroll är filmen en hyllning till dem som bär andra – ofta på bekostnad av sig själva. Efter filmen följer ett samtal med fackliga representanter från vården där samtalet kommer kretsa kring de utmaningar som personalen möter varje dag och vilka politiska lösningar som behövs för att skapa en trygg\, jämlik och hållbar vård – för både patienter och personal.
URL:https://skane.vansterpartiet.se/event/filmvisning-av-kvallspass-fackligt-samtal/
LOCATION:Panora\, Friisgatan 19D\, Malmö\, 214 21
END:VEVENT
BEGIN:VEVENT
DTSTART;TZID=UTC:20251210T180000
DTEND;TZID=UTC:20251210T200000
DTSTAMP:20260423T225622
CREATED:20251113T103222Z
LAST-MODIFIED:20251113T103222Z
UID:6139-1765389600-1765396800@skane.vansterpartiet.se
SUMMARY:Digital träff: Hur får vi kommunerna att satsa på kultur\, trygga bostäder och bra arbetsvillkor?
DESCRIPTION:Har du ett parlamentariskt uppdrag i Skåne – eller vill du bara få fler verktyg för att driva vänsterpolitik lokalt? Då ska du inte missa våra tre digitala tematräffar i november och december! Under tre kvällar samlas vi för att inspireras\, dela erfarenheter och utveckla nya idéer för kommunpolitiken. Varje träff tar upp olika politikområden. Du får både höra hur andra vänsterpartister lyckats driva igenom förändringar och själv bidra med egna förslag och frågor.\n\n\n\n\n12 november\, kl. 18–20: Skola & förskola + Klimat & miljöHur sätter vi barn och planet före vinstintressen?\n25 november\, kl. 18–20: Socialtjänst & äldreomsorgHur bygger vi en socialpolitik som sätter människan först?\n10 december\, kl. 18–20: Kultur & fritid\, bostäder & personalpolitikHur får vi kommunerna att satsa på kultur\, trygga bostäder och bra arbetsvillkor?\n\n\n\nAnmälan görs via Zetkin: https://app.zetkin.org/o/261/projects/5735 eller via mejl till: skane@vansterpartiet.se\n\nMötena kommer både innehålla kortare föredrag med inspiration från någon vänsterpartist som har drivit någon fråga kopplat till ämnena för dagen samt möjlighet för er att komma in med frågor och tips som ni har. Efteråt kommer det skickas ut mejl med tips och länkar som ni kan använda er av. Har ni tips på frågor som ni har drivit kopplat till något av dessa ämnen får ni gärna skicka ett mejl till jesper.sahlen.raquette@vansterpartiet.se\n\nLänk till mötet skickas till alla anmälda några dagar innan.
URL:https://skane.vansterpartiet.se/event/digital-traff-hur-far-vi-kommunerna-att-satsa-pa-kultur-trygga-bostader-och-bra-arbetsvillkor/
LOCATION:Digitalt
END:VEVENT
BEGIN:VEVENT
DTSTART;TZID=UTC:20260204T180000
DTEND;TZID=UTC:20260204T210000
DTSTAMP:20260423T225622
CREATED:20251219T085011Z
LAST-MODIFIED:20251219T085011Z
UID:6157-1770228000-1770238800@skane.vansterpartiet.se
SUMMARY:Så blir du en vänsterinfluencer! Föreläsning med Maurits Otterloo
DESCRIPTION:Nästa år är det val och det är dags att byta ut Tidögänget mot en rödgrön regering. För att lyckas med detta och för att göra ett bra val måste vi också få stort genomslag i sociala medier. Att vi är många är vänsterns största styrka\, och därför ska vi vara många vänsterpartister i flödena. Du behövs!\n\nKänner du dig osäker på hur du ska börja producera material för TikTok\, Instagram och andra plattformar? Då är denna föreläsningen med TikTok-stjärnan Maurits Otterloo något för dig.\nI det här eventet pratar vi om varför vänstern måste finnas i sociala medier och hur vi når ut. Vi går igenom vad som fungerar och inte fungerar på TikTok\, Instagram och andra plattformar: format\, tonalitet\, algoritmer\, personlighet och politik.\n\nOavsett om du redan postar eller funderar på att börja får du konkreta tips\, inspiration och verktyg för att ta mer plats digitalt.\n\nVAR: Poeten på hörnet\, S Förstadsgatan 65BNÄR: Ons 4 februari\, insläpp 18. Föreläsningen börjar 18.30.\n\nFri entré!\nVälkommen.\n/Vänsterpartiet Region Skåne
URL:https://skane.vansterpartiet.se/event/sa-blir-du-en-vansterinfluencer-forelasning-med-maurits-otterloo/
LOCATION:Södra Förstadsgatan 65\, Malmö.
END:VEVENT
BEGIN:VEVENT
DTSTART;TZID=UTC:20260314T200000
DTEND;TZID=UTC:20260314T235500
DTSTAMP:20260423T225622
CREATED:20260303T095704Z
LAST-MODIFIED:20260312T112005Z
UID:6221-1773518400-1773532500@skane.vansterpartiet.se
SUMMARY:VÄNSTERFEST! Nooshi & Hanna på Moriskan
DESCRIPTION:Den 14 mars kl 20:00 slår vi upp dörrarna till Moriska Paviljongen för en kväll där vi laddar upp för valår! DJ:s som vrider upp tempot och goodiebags till de första i kön! Skriv upp dig på listan och kom innan 21:00 för garanterat inträde! Vi ses! \n\nLISTA /// VÄNSTERFEST I MALMÖ MED NOOSHI DADGORSTAR OCH HANNA GEDIN
URL:https://skane.vansterpartiet.se/event/vansterfest-nooshi-hanna-pa-moriskan/
LOCATION:Moriskan\, Norra Parkgatan 2\, Malmö\, 21436
END:VEVENT
BEGIN:VEVENT
DTSTART;TZID=UTC:20260321T090000
DTEND;TZID=UTC:20260321T180000
DTSTAMP:20260423T225622
CREATED:20260107T094014Z
LAST-MODIFIED:20260320T141653Z
UID:6161-1774083600-1774116000@skane.vansterpartiet.se
SUMMARY:Valkonferens & extra distriktsårskonferens
DESCRIPTION:Valkonferens och extra distriktsårskonferens hålls 21 mars kl. 9–18 i Medborgarhuset i Eslöv. \nKallelse\, tidsplan och fotografering:\n\nKallelse extra dåk och valkonferens 2026\nKallelse\, komplettering\nValkonferens och extra distriktsårskonferens 2026-03-21_ Förslag till arbetsordning\nSchema för fotografering av listtoppar\n\nUnderlag: Extra distriktårskonferens\n\nDagordning extra distriktsårskonferens\nExtra distriktsårskonferens 2026-03-21 förslag till konferensordning\nFörslag till Regionpolitiskt program 2026-2030\nInkomna motioner på Regionpolitiska programmet inkl svar från AU\nFyllnadsval distriktsstyrelse\n\nUnderlag: Valkonferens\n\nDagordning valkonferens\nFörslag till konferensordning\, valkonferens\nValberedningens förslag till listor valkonferens 21_3 (kompletterande version)
URL:https://skane.vansterpartiet.se/event/valkonferens-extra-distriktsarskonferens/
LOCATION:Medborgarhuset i Eslöv\, Kyrkogatan 1\, Eslöv\, 24131
END:VEVENT
BEGIN:VEVENT
DTSTART;TZID=UTC:20260426T100000
DTEND;TZID=UTC:20260426T120000
DTSTAMP:20260423T225622
CREATED:20260423T113619Z
LAST-MODIFIED:20260423T125419Z
UID:6329-1777197600-1777204800@skane.vansterpartiet.se
SUMMARY:Valskolan
DESCRIPTION:Vi bjuder in dig att vara med och göra skillnad – kom till Valskolan! Här får du pepp\, kunskap och konkreta verktyg för att vara med och kampanja och påverka. Du får höra om våra viktigaste politiska prioriteringar i valrörelsen och hur du kan bidra till ett maktskifte i september. \n\n\n\n\n\n\n\n\n\nOavsett om det här är ditt allra första möte med Vänsterpartiet eller om du har varit engagerad länge\, så är Valskolan en inspirerande samlingspunkt där vi bygger kraft tillsammans. \n\n\n\n\n\n\nVar: Lund\, Tullgatan 14 b \nNär: 26/4  kl 10-12 \nAnmälan: https://www.zetk.in/o/275/campaigns/6678#2026-04-26 \nVill du att distriktet anordnar en valskola i din partiförening? Det gör vi gärna! Hör av er till ansvarig lisa.claesson@vansterpartiet.se så bestämmer något datum tillsammans!
URL:https://skane.vansterpartiet.se/event/valskolan-2/
LOCATION:Lund
ATTACH;FMTTYPE=image/png:https://skane.vansterpartiet.se/files/2026/04/dinsida.png
END:VEVENT
BEGIN:VEVENT
DTSTART;TZID=UTC:20260426T100000
DTEND;TZID=UTC:20260426T123000
DTSTAMP:20260423T225622
CREATED:20260423T113321Z
LAST-MODIFIED:20260423T125504Z
UID:6327-1777197600-1777206600@skane.vansterpartiet.se
SUMMARY:Valskolan
DESCRIPTION:Vi bjuder in dig att vara med och göra skillnad – kom till Valskolan! Här får du pepp\, kunskap och konkreta verktyg för att vara med och kampanja och påverka. Du får höra om våra viktigaste politiska prioriteringar i valrörelsen och hur du kan bidra till ett maktskifte i september. \n\n\n\n\n\n\n\n\n\nOavsett om det här är ditt allra första möte med Vänsterpartiet eller om du har varit engagerad länge\, så är Valskolan en inspirerande samlingspunkt där vi bygger kraft tillsammans. \n\n\n\n\n\n\nVar: Malmö\, ABF\, Spånehusvägen 47 \nNär: 26/4 kl 10-12.30 \nAnmälan: Anmälan: https://app.zetkin.org/o/1/events/53344 \nVill du att distriktet anordnar en valskola i din partiförening? Det gör vi gärna! Hör av er till ansvarig lisa.claesson@vansterpartiet.se så bestämmer något datum tillsammans! \nValskolan sker i samarbete med ABF
URL:https://skane.vansterpartiet.se/event/valskolan/
LOCATION:ABF Malmö
ATTACH;FMTTYPE=image/png:https://skane.vansterpartiet.se/files/2026/04/dinsida.png
END:VEVENT
BEGIN:VEVENT
DTSTART;VALUE=DATE:20260501
DTEND;VALUE=DATE:20260502
DTSTAMP:20260423T225622
CREATED:20260409T093557Z
LAST-MODIFIED:20260409T093557Z
UID:6304-1777593600-1777679999@skane.vansterpartiet.se
SUMMARY:1 maj i Skåne
DESCRIPTION:I år byter vi äntligen regering\, och vi byter politik! Var med och fira arbetarrörelsens högtidsdag i din stad.\nEslöv\nEslövs torg kl 12.00. Tal\, musik och politik. \nHelsingborg\nSamling kl. 14 på Stortorget. Avmarsch kl. 14:30. Demonstration till Furutorpsparken där det blir tal\, musik\, grillning och barnaktiviteter från ca kl 15. \nHässleholm\nHembygdsparken 10.00-11.30.\nTalare: Linnea Bengtsson\, Magnus Åkeborn\, Katarina Olsson och Nellie Krabbe. Rick Titrö står för musik. \nKristianstad\nEtt mänskligare Kristianstad. Lilla Torg kl 13.30. Tal av Linnea Bengtsson\, Jocke Lundgren\, Alma Stanojevic Persson. Musik: Rick Titrö. \nLandskrona\nRådhustorget kl 12-14.\n\nLund\nSamling för demonstration på Stortorget 14.00. Avslutande möte på Stortorget. Huvudtalare: Malin Björk. Grillning vid partilokalen efteråt.\n\nMalmö\nMalmö för ett socialistiskt maktskifte\nSamling #1 på Örtagårdstorget kl. 12\, samling #2 på Möllevångstorget kl. 13. Demonstrationen avgår kl. 14. \nProgram i Slottsparken kl. 16-18. Tal\, aktiviteter och musik.\nEfterfest på Far i Hatten kl. 19.30.\n\nRöstånga\nVänsterpartiet Svalöv firar Första maj i Röstånga\nPlats: Björkgatan 5\, Röstånga\nTid: 13 -15\nVi bjuder på pastasallad och gott grillat.\nAktiviteter för stora som små. \nSimrishamn\nHamnplan klockan 12.00. Lokala talare och musik från Vänstersväng. Servering av kaffe och hembakat. \nSjöbo\nMaktskifte i Sverige och Sjöbo. Nya Torg 10.30\n\nSkurup\nFolkets Park 18.00.\n\nTrelleborg\nRådhustorget 9.30-10.30\nTal av Hanna Gunnarsson\, Patrik Milton och Mats Sjölin\nMusik: Röda Kapellet
URL:https://skane.vansterpartiet.se/event/1-maj-i-skane/
ATTACH;FMTTYPE=image/png:https://skane.vansterpartiet.se/files/2026/04/Kopia-av-SoMe-Event-1maj2026.png
END:VEVENT
BEGIN:VEVENT
DTSTART;TZID=UTC:20260506T180000
DTEND;TZID=UTC:20260506T200000
DTSTAMP:20260423T225622
CREATED:20260423T113736Z
LAST-MODIFIED:20260423T125558Z
UID:6331-1778090400-1778097600@skane.vansterpartiet.se
SUMMARY:Valskolan
DESCRIPTION:Vi bjuder in dig att vara med och göra skillnad – kom till Valskolan! Här får du pepp\, kunskap och konkreta verktyg för att vara med och kampanja och påverka. Du får höra om våra viktigaste politiska prioriteringar i valrörelsen och hur du kan bidra till ett maktskifte i september. \n\n\n\n\n\n\n\n\n\nOavsett om det här är ditt allra första möte med Vänsterpartiet eller om du har varit engagerad länge\, så är Valskolan en inspirerande samlingspunkt där vi bygger kraft tillsammans. \n\n\n\n\n\n\n\n\n\n\n\n\n\nVar: Helsingborg \nNär: 6/5 kl 17.30-20.00 \nVill du att distriktet anordnar en valskola i din partiförening? Det gör vi gärna! Hör av er till ansvarig lisa.claesson@vansterpartiet.se så bestämmer något datum tillsammans!
URL:https://skane.vansterpartiet.se/event/valskolan-3/
LOCATION:Helsingborg
ATTACH;FMTTYPE=image/png:https://skane.vansterpartiet.se/files/2026/04/dinsida.png
END:VEVENT
BEGIN:VEVENT
DTSTART;TZID=UTC:20260527T180000
DTEND;TZID=UTC:20260527T200000
DTSTAMP:20260423T225622
CREATED:20260423T114104Z
LAST-MODIFIED:20260423T125637Z
UID:6334-1779904800-1779912000@skane.vansterpartiet.se
SUMMARY:Digital Valskola
DESCRIPTION:Vi bjuder in dig att vara med och göra skillnad – kom till digitala Valskolan! Här får du pepp\, kunskap och konkreta verktyg för att vara med och kampanja och påverka. Du får höra om våra viktigaste politiska prioriteringar i valrörelsen och hur du kan bidra till ett maktskifte i september. \n\n\n\n\n\n\n\n\n\nOavsett om det här är ditt allra första möte med Vänsterpartiet eller om du har varit engagerad länge\, så är Valskolan en inspirerande samlingspunkt där vi bygger kraft tillsammans. \n\n\n\n\n\n\nVar: Digitalt\, Zoom\, alla anmälda får länk skickat till sig \nNär: 27/5 18.00-20.00 \nAnmälan: https://app.zetkin.org/o/261/events/53743 \nVill du att distriktet anordnar en valskola i din partiförening? Det gör vi gärna! Hör av er till ansvarig lisa.claesson@vansterpartiet.se så bestämmer något datum tillsammans!
URL:https://skane.vansterpartiet.se/event/digital-valskola/
LOCATION:Digitalt
ATTACH;FMTTYPE=image/png:https://skane.vansterpartiet.se/files/2026/04/dinsida.png
ORGANIZER;CN="V%C3%A4nsterpartiet Sk%C3%A5ne":MAILTO:skane@vansterpartiet.se
END:VEVENT
BEGIN:VEVENT
DTSTART;TZID=UTC:20260604T180000
DTEND;TZID=UTC:20260604T200000
DTSTAMP:20260423T225622
CREATED:20260423T114301Z
LAST-MODIFIED:20260423T125715Z
UID:6336-1780596000-1780603200@skane.vansterpartiet.se
SUMMARY:Digital Valskola
DESCRIPTION:Vi bjuder in dig att vara med och göra skillnad – kom till digitala Valskolan! Här får du pepp\, kunskap och konkreta verktyg för att vara med och kampanja och påverka. Du får höra om våra viktigaste politiska prioriteringar i valrörelsen och hur du kan bidra till ett maktskifte i september. \n\n\n\n\n\n\n\n\n\nOavsett om det här är ditt allra första möte med Vänsterpartiet eller om du har varit engagerad länge\, så är Valskolan en inspirerande samlingspunkt där vi bygger kraft tillsammans. \n\n\n\n\n\n\nVar: Digitalt\, Zoom\, alla anmälda får länk skickat till sig \nNär: 4/6 kl 18.00-20.00 \nAnmälan: https://app.zetkin.org/o/261/events/53744 \nVill du att distriktet anordnar en valskola i din partiförening? Det gör vi gärna! Hör av er till ansvarig lisa.claesson@vansterpartiet.se så bestämmer något datum tillsammans! \n 
URL:https://skane.vansterpartiet.se/event/digital-valskola-2/
ATTACH;FMTTYPE=image/png:https://skane.vansterpartiet.se/files/2026/04/dinsida.png
END:VEVENT
BEGIN:VEVENT
DTSTART;VALUE=DATE:20260613
DTEND;VALUE=DATE:20260615
DTSTAMP:20260423T225622
CREATED:20260107T093645Z
LAST-MODIFIED:20260409T093628Z
UID:6159-1781308800-1781481599@skane.vansterpartiet.se
SUMMARY:SKÅNES VÄNSTERDAGAR 2026
DESCRIPTION:Efter listsättningar och valkongress står vi redo att ta oss an valrörelsen tillsammans! Hur använder vi våra valplattformar i vår lokala politik i kommuner\, regioner och som företrädare och aktivister? Vilka möjligheter och utmaningar ligger i att styra från vänster\, och hur ser vi på det här hos oss? Hur når vi ut med våra budskap till så många som möjligt? Följ med på två dagar fyllda med politisk inspiration & diskussion!\n\n\nVi bjuder på frukost\, lunch\, fika och middag\, tid att träffas och prata med varandra. Mer information och anmälan inom kort på denna sidan. \n\n\n\n\nKonferens:\n13-14 juni ABF Malmö\nSpånehusvägen 47 Malmö \n\n\n\n\nMiddag och samtal:\n13 juni Moriska paviljongen\nNorra Parkgatan 2 Malmö
URL:https://skane.vansterpartiet.se/event/skanska-vansterdagarna/
LOCATION:ABF Malmö
CATEGORIES:Arrangemang
ATTACH;FMTTYPE=image/png:https://skane.vansterpartiet.se/files/2026/01/SKANES-VAnsterdagar-Omslag-till-digital-anteckningsbok-liggande.png
END:VEVENT
BEGIN:VEVENT
DTSTART;TZID=UTC:20260813T180000
DTEND;TZID=UTC:20260813T200000
DTSTAMP:20260423T225622
CREATED:20260423T114514Z
LAST-MODIFIED:20260423T125333Z
UID:6338-1786644000-1786651200@skane.vansterpartiet.se
SUMMARY:Digital Valskola
DESCRIPTION:Vi bjuder in dig att vara med och göra skillnad – kom till digitala Valskolan! Här får du pepp\, kunskap och konkreta verktyg för att vara med och kampanja och påverka. Du får höra om våra viktigaste politiska prioriteringar i valrörelsen och hur du kan bidra till ett maktskifte i september. \n\n\n\n\n\n\n\n\n\nOavsett om det här är ditt allra första möte med Vänsterpartiet eller om du har varit engagerad länge\, så är Valskolan en inspirerande samlingspunkt där vi bygger kraft tillsammans. \n\n\n\n\n\n\n13/8 kl 18-20.00 \nVar: Zoom\, alla anmälda får länk skickat till sig \nAnmälan: https://app.zetkin.org/o/261/events/53745 \nVill du att distriktet anordnar en valskola i din partiförening? Det gör vi gärna! Hör av er till ansvarig lisa.claesson@vansterpartiet.se så bestämmer något datum tillsammans!
URL:https://skane.vansterpartiet.se/event/digital-valskola-3/
LOCATION:Digitalt
ATTACH;FMTTYPE=image/png:https://skane.vansterpartiet.se/files/2026/04/dinsida.png
END:VEVENT
END:VCALENDAR