BEGIN:VCALENDAR
VERSION:2.0
PRODID:-//Vänsterpartiet Skåne - ECPv6.15.20//NONSGML v1.0//EN
CALSCALE:GREGORIAN
METHOD:PUBLISH
X-WR-CALNAME:Vänsterpartiet Skåne
X-ORIGINAL-URL:https://skane.vansterpartiet.se
X-WR-CALDESC:Händelser för Vänsterpartiet Skåne
REFRESH-INTERVAL;VALUE=DURATION:PT1H
X-Robots-Tag:noindex
X-PUBLISHED-TTL:PT1H
BEGIN:VTIMEZONE
TZID:UTC
BEGIN:STANDARD
TZOFFSETFROM:+0000
TZOFFSETTO:+0000
TZNAME:UTC
DTSTART:20240101T000000
END:STANDARD
END:VTIMEZONE
BEGIN:VEVENT
DTSTART;TZID=UTC:20251130T150000
DTEND;TZID=UTC:20251130T173000
DTSTAMP:20260423T225322
CREATED:20251113T103534Z
LAST-MODIFIED:20251113T103534Z
UID:6145-1764514800-1764523800@skane.vansterpartiet.se
SUMMARY:Filmvisning av Kvällspass + fackligt samtal
DESCRIPTION:Välkommen på visning av filmen Kvällspass följt av ett samtal med fackliga representanter.\n\nVänsterpartiet har ett antal fribiljetter till detta evenemang. Maila sofie.valfridsson@skane.se för fri entré (senast 28/11). Kvällspass följer Floria\, en erfaren sjuksköterska på en kirurgavdelning där tempot är högt och resurserna knappa. Trots underbemanning hanterar hon arbetsdagen med okuvlig arbetsmoral\, klinisk precision och stor empati för sina patienter. När arbetsbördan växer och timmarna rinner iväg blir även det inre trycket synligt. Med hyllade Leonie Benesch (Lärarrummet\, Det vita bandet) i en djupt mänsklig huvudroll är filmen en hyllning till dem som bär andra – ofta på bekostnad av sig själva. Efter filmen följer ett samtal med fackliga representanter från vården där samtalet kommer kretsa kring de utmaningar som personalen möter varje dag och vilka politiska lösningar som behövs för att skapa en trygg\, jämlik och hållbar vård – för både patienter och personal.
URL:https://skane.vansterpartiet.se/event/filmvisning-av-kvallspass-fackligt-samtal/
LOCATION:Panora\, Friisgatan 19D\, Malmö\, 214 21
END:VEVENT
END:VCALENDAR