BEGIN:VCALENDAR
VERSION:2.0
PRODID:-//Vänsterpartiet Skåne - ECPv6.15.20//NONSGML v1.0//EN
CALSCALE:GREGORIAN
METHOD:PUBLISH
X-ORIGINAL-URL:https://skane.vansterpartiet.se
X-WR-CALDESC:Händelser för Vänsterpartiet Skåne
REFRESH-INTERVAL;VALUE=DURATION:PT1H
X-Robots-Tag:noindex
X-PUBLISHED-TTL:PT1H
BEGIN:VTIMEZONE
TZID:UTC
BEGIN:STANDARD
TZOFFSETFROM:+0000
TZOFFSETTO:+0000
TZNAME:UTC
DTSTART:20240101T000000
END:STANDARD
END:VTIMEZONE
BEGIN:VEVENT
DTSTART;TZID=UTC:20251011T180000
DTEND;TZID=UTC:20251011T200000
DTSTAMP:20260423T200846
CREATED:20250912T145502Z
LAST-MODIFIED:20250922T093549Z
UID:6097-1760205600-1760212800@skane.vansterpartiet.se
SUMMARY:Alla ska äta - start för studiecirkel
DESCRIPTION:Matpriserna har under sittande regering blivit dyrare och dyrare. På detta tema bjuder Vänsterpartiet Skåne in till en digital studiecirkel utifrån boken “Alla ska äta” Av Elina Pahnke. \nNär: 11/10 kl 18.00-20.00 \nVar: Zoom\, alla anmälda får länk på mejlen \nAnmäl dig här \nDu kan även anmäla dig genom att mejla skane@vansterpartiet.se
URL:https://skane.vansterpartiet.se/event/alla-ska-ata-start-for-studiecirkel/
END:VEVENT
END:VCALENDAR