BEGIN:VCALENDAR
VERSION:2.0
PRODID:-//Vänsterpartiet Skåne - ECPv6.15.20//NONSGML v1.0//EN
CALSCALE:GREGORIAN
METHOD:PUBLISH
X-ORIGINAL-URL:https://skane.vansterpartiet.se
X-WR-CALDESC:Händelser för Vänsterpartiet Skåne
REFRESH-INTERVAL;VALUE=DURATION:PT1H
X-Robots-Tag:noindex
X-PUBLISHED-TTL:PT1H
BEGIN:VTIMEZONE
TZID:UTC
BEGIN:STANDARD
TZOFFSETFROM:+0000
TZOFFSETTO:+0000
TZNAME:UTC
DTSTART:20240101T000000
END:STANDARD
END:VTIMEZONE
BEGIN:VEVENT
DTSTART;TZID=UTC:20250929T180000
DTEND;TZID=UTC:20250929T200000
DTSTAMP:20260423T200205
CREATED:20250917T114258Z
LAST-MODIFIED:20250917T114258Z
UID:6105-1759168800-1759176000@skane.vansterpartiet.se
SUMMARY:Tema Sjukvård! Digitalt medlemsmöte regionpolitiskt program
DESCRIPTION:Nu kan alla medlemmar vara med och påverka regionpolitiken!\n\n\n\n\n\n\n\nInför nästa mandatperiod ska ett nytt regionpolitiskt program tas fram. Regiongruppen bjuder in till digitala öppna medlemsmöten utifrån tema. \nI det regionpolitiska programmet beskriver vi vad vi vill göra för att skapa ett mer jämlikt Skåne med en stark välfärd\, redo att ställa om för framtiden.Regionen har ansvar för Skånes sjukvård\, kollektivtrafik\, den regionala utvecklingen och kulturen. \nDen 29/9 18.00 – 20.00 Tema: Sjukvård med Karin Rågsjö\nDen 6/10 18.00 – 20.00 Tema: Regional utveckling\, kollektivtrafik och kultur med Jonas Sjöstedt \nJag vill anmäla mig!
URL:https://skane.vansterpartiet.se/event/tema-sjukvard-digitalt-medlemsmote-regionpolitiskt-program/
CATEGORIES:Möten
END:VEVENT
END:VCALENDAR