BEGIN:VCALENDAR
VERSION:2.0
PRODID:-//Vänsterpartiet Skåne - ECPv6.15.20//NONSGML v1.0//EN
CALSCALE:GREGORIAN
METHOD:PUBLISH
X-ORIGINAL-URL:https://skane.vansterpartiet.se
X-WR-CALDESC:Händelser för Vänsterpartiet Skåne
REFRESH-INTERVAL;VALUE=DURATION:PT1H
X-Robots-Tag:noindex
X-PUBLISHED-TTL:PT1H
BEGIN:VTIMEZONE
TZID:UTC
BEGIN:STANDARD
TZOFFSETFROM:+0000
TZOFFSETTO:+0000
TZNAME:UTC
DTSTART:20230101T000000
END:STANDARD
END:VTIMEZONE
BEGIN:VEVENT
DTSTART;TZID=UTC:20240603T183000
DTEND;TZID=UTC:20240603T200000
DTSTAMP:20260424T221202
CREATED:20240524T102629Z
LAST-MODIFIED:20240524T102629Z
UID:5672-1717439400-1717444800@skane.vansterpartiet.se
SUMMARY:Träffa Jonas Sjöstedt och Hanna Gedin i Helsingborg 3/6
DESCRIPTION:Den 3 juni kommer Vänsterpartiets toppkandidater i EU-valet\, Jonas Sjöstedt och Hanna Gedin till Helsingborg för att träffa väljare och prata om vår tydliga agenda: \nDet går att genomföra en grön och stark omställning. Det går att pressa ner priserna på mat och el. Det går att förbättra välfärden\, bygga bra bostäder och skapa trygga jobb. Men då måste vi bort från högerpolitikens blinda tro på att marknaden ska lösa allt\, till att politiker istället tar ansvar för att skapa välstånd och välfärd som kommer alla till del. \nDu är varmt välkommen till ABF i Helsingborg\, Södergatan 15. Det blir en spännande utfrågning med Jonas och Hanna och vi bjuder på matiga baguetter och lyxig fika. \nTid: Insläpp 18.00\, Mötet kör igång kl 18.30 och pågår till 20.00 \nPlats: ABF\, Södergatan 15 \, Sandler Salen
URL:https://skane.vansterpartiet.se/event/traffa-jonas-sjostedt-och-hanna-gedin-i-helsingborg-3-6/
END:VEVENT
END:VCALENDAR