BEGIN:VCALENDAR
VERSION:2.0
PRODID:-//Vänsterpartiet Skåne - ECPv6.15.20//NONSGML v1.0//EN
CALSCALE:GREGORIAN
METHOD:PUBLISH
X-ORIGINAL-URL:https://skane.vansterpartiet.se
X-WR-CALDESC:Händelser för Vänsterpartiet Skåne
REFRESH-INTERVAL;VALUE=DURATION:PT1H
X-Robots-Tag:noindex
X-PUBLISHED-TTL:PT1H
BEGIN:VTIMEZONE
TZID:UTC
BEGIN:STANDARD
TZOFFSETFROM:+0000
TZOFFSETTO:+0000
TZNAME:UTC
DTSTART:20230101T000000
END:STANDARD
END:VTIMEZONE
BEGIN:VEVENT
DTSTART;TZID=UTC:20240602T173000
DTEND;TZID=UTC:20240602T203000
DTSTAMP:20260424T220500
CREATED:20240524T102745Z
LAST-MODIFIED:20240530T085036Z
UID:5674-1717349400-1717360200@skane.vansterpartiet.se
SUMMARY:Träffa Jonas Sjöstedt och Hanna Gedin i Malmö
DESCRIPTION:Den 2 juni kommer Vänsterpartiets toppkandidater i EU-valet\, Jonas Sjöstedt och Hanna Gedin till Malmö för att träffa väljare och prata om vår tydliga agenda:Det går att genomföra en grön och stark omställning. Det går att pressa ner priserna på mat och el. Det går att förbättra välfärden\, bygga bra bostäder och skapa trygga jobb. Men då måste vi bort från högerpolitikens blinda tro på att marknaden ska lösa allt\, till att politiker istället tar ansvar för att skapa välstånd och välfärd som kommer alla till del.\nDu är varmt välkommen till Grand i Malmö 2 juni. Det blir en spännande utfrågning på scen med Jonas och Hanna\, musik och efterhäng.\nTid: Insläpp 17.30\, Mötet kör igång kl 18.00Plats: Grand\, Monbijougatan 17 Malmö
URL:https://skane.vansterpartiet.se/event/traffa-jonas-sjostedt-och-hanna-gedin-i-malmo/
END:VEVENT
END:VCALENDAR